BEGIN:VCALENDAR
VERSION:2.0
PRODID:-//natur&amp;ëmwelt a.s.b.l. - ECPv6.15.20//NONSGML v1.0//EN
CALSCALE:GREGORIAN
METHOD:PUBLISH
X-WR-CALNAME:natur&amp;ëmwelt a.s.b.l.
X-ORIGINAL-URL:https://www.naturemweltasbl.lu
X-WR-CALDESC:Évènements pour natur&amp;ëmwelt a.s.b.l.
REFRESH-INTERVAL;VALUE=DURATION:PT1H
X-Robots-Tag:noindex
X-PUBLISHED-TTL:PT1H
BEGIN:VTIMEZONE
TZID:Europe/Zurich
BEGIN:DAYLIGHT
TZOFFSETFROM:+0100
TZOFFSETTO:+0200
TZNAME:CEST
DTSTART:20240331T010000
END:DAYLIGHT
BEGIN:STANDARD
TZOFFSETFROM:+0200
TZOFFSETTO:+0100
TZNAME:CET
DTSTART:20241027T010000
END:STANDARD
BEGIN:DAYLIGHT
TZOFFSETFROM:+0100
TZOFFSETTO:+0200
TZNAME:CEST
DTSTART:20250330T010000
END:DAYLIGHT
BEGIN:STANDARD
TZOFFSETFROM:+0200
TZOFFSETTO:+0100
TZNAME:CET
DTSTART:20251026T010000
END:STANDARD
BEGIN:DAYLIGHT
TZOFFSETFROM:+0100
TZOFFSETTO:+0200
TZNAME:CEST
DTSTART:20260329T010000
END:DAYLIGHT
BEGIN:STANDARD
TZOFFSETFROM:+0200
TZOFFSETTO:+0100
TZNAME:CET
DTSTART:20261025T010000
END:STANDARD
END:VTIMEZONE
BEGIN:VEVENT
DTSTART;TZID=Europe/Zurich:20250606T170000
DTEND;TZID=Europe/Zurich:20250606T193000
DTSTAMP:20260423T145117
CREATED:20250508T091620Z
LAST-MODIFIED:20250513T100240Z
UID:6367-1749229200-1749238200@www.naturemweltasbl.lu
SUMMARY:Jardins pour pollinisateurs
DESCRIPTION:Comment puis-je rendre mon jardin plus attrayant pour les pollinisateurs ? Qui sont les pollinisateurs\, d’ailleurs ?  \nDans le cadre de la LUGA\, natur&ëmwelt offre un cours d’instructions sur les possibilités de transformer votre propre jardin ou balcon. Nous vous montrons comment rendre votre jardin plus attrayant et comment vous pourriez donner aux pollinisateurs ce dont ils ont besoin. \nInscriptions à l’adresse b.jacoby@naturemwelt.lu \nPour plus d’informations sur la LUGA visitez https://luga.lu/fr/
URL:https://www.naturemweltasbl.lu/event/jardins-pour-pollinisateurs/
LOCATION:LUGA Science Hub\, Vallée de la Pétrusse\, Luxembourg\, 2327\, Luxembourg
CATEGORIES:Atelier,Vortrag/Conférence,Workshop,Workshop/Atelier
ATTACH;FMTTYPE=image/png:https://www.naturemweltasbl.lu/wp-content/uploads/2025/05/LUGA-ne-Event-Banner-3.png
END:VEVENT
END:VCALENDAR