BEGIN:VCALENDAR
VERSION:2.0
PRODID:-//natur&amp;ëmwelt a.s.b.l. - ECPv6.15.20//NONSGML v1.0//EN
CALSCALE:GREGORIAN
METHOD:PUBLISH
X-WR-CALNAME:natur&amp;ëmwelt a.s.b.l.
X-ORIGINAL-URL:https://www.naturemweltasbl.lu
X-WR-CALDESC:Évènements pour natur&amp;ëmwelt a.s.b.l.
REFRESH-INTERVAL;VALUE=DURATION:PT1H
X-Robots-Tag:noindex
X-PUBLISHED-TTL:PT1H
BEGIN:VTIMEZONE
TZID:Europe/Zurich
BEGIN:DAYLIGHT
TZOFFSETFROM:+0100
TZOFFSETTO:+0200
TZNAME:CEST
DTSTART:20250330T010000
END:DAYLIGHT
BEGIN:STANDARD
TZOFFSETFROM:+0200
TZOFFSETTO:+0100
TZNAME:CET
DTSTART:20251026T010000
END:STANDARD
BEGIN:DAYLIGHT
TZOFFSETFROM:+0100
TZOFFSETTO:+0200
TZNAME:CEST
DTSTART:20260329T010000
END:DAYLIGHT
BEGIN:STANDARD
TZOFFSETFROM:+0200
TZOFFSETTO:+0100
TZNAME:CET
DTSTART:20261025T010000
END:STANDARD
BEGIN:DAYLIGHT
TZOFFSETFROM:+0100
TZOFFSETTO:+0200
TZNAME:CEST
DTSTART:20270328T010000
END:DAYLIGHT
BEGIN:STANDARD
TZOFFSETFROM:+0200
TZOFFSETTO:+0100
TZNAME:CET
DTSTART:20271031T010000
END:STANDARD
END:VTIMEZONE
BEGIN:VEVENT
DTSTART;TZID=Europe/Zurich:20260425T080000
DTEND;TZID=Europe/Zurich:20260425T110000
DTSTAMP:20260425T014804
CREATED:20260331T085018Z
LAST-MODIFIED:20260413T073842Z
UID:10485-1777104000-1777114800@www.naturemweltasbl.lu
SUMMARY:Le monde fascinant du chant des oiseaux (pour avancés)
DESCRIPTION:Lors d’une promenade dans la réserve naturelle « Haff Réimech »\, nous découvrirons les vocalisations des oiseaux (chants\, cris et autres sons) de différentes espèces. Apprenez avec nous à identifier les chants et appels d’espèces communes\, plus rares et très rares de cette région. De bonnes chaussures et une tenue adaptée à la météo sont nécessaires ; des jumelles peuvent être utiles. \nLieu: Biodiversum\, Remerschen \nOrganisation : natur&ëmwelt\, section Kanton Gréiwemaacher\nContact : Marco Schweitzer\, Marie-France Thewes\nsektioun.greiwemaacher@naturemwelt.lu
URL:https://www.naturemweltasbl.lu/event/le-monde-fascinant-du-chant-des-oiseaux-pour-avances/
ATTACH;FMTTYPE=image/jpeg:https://www.naturemweltasbl.lu/wp-content/uploads/2026/03/En-Dag-an-der-Natur-Cover.jpg
END:VEVENT
BEGIN:VEVENT
DTSTART;TZID=Europe/Zurich:20260425T100000
DTEND;TZID=Europe/Zurich:20260425T100000
DTSTAMP:20260425T014804
CREATED:20260331T084414Z
LAST-MODIFIED:20260331T084414Z
UID:10480-1777111200-1777111200@www.naturemweltasbl.lu
SUMMARY:Baguage de jeunes cincles
DESCRIPTION:Seul oiseau chanteur à rechercher sa nourriture principalement en plongeant\, le cincle plongeur niche de préférence sous les ponts. Nous partirons à la recherche du nid\, observerons et baguerons les jeunes oiseaux. Activité familiale. Merci de prévoir des bottes en caoutchouc. \nOrganisation : natur&ëmwelt Nordstad\nContact : Béatrice Casagranda\ncomite@naturemwelt-nordstad.lu \nWebsite : www.naturemwelt-nordstad.lu
URL:https://www.naturemweltasbl.lu/event/baguage-de-jeunes-cincles-2/
ATTACH;FMTTYPE=image/jpeg:https://www.naturemweltasbl.lu/wp-content/uploads/2026/03/En-Dag-an-der-Natur-Cover.jpg
END:VEVENT
END:VCALENDAR