BEGIN:VCALENDAR
VERSION:2.0
PRODID:-//natur&amp;ëmwelt a.s.b.l. - ECPv6.15.20//NONSGML v1.0//EN
CALSCALE:GREGORIAN
METHOD:PUBLISH
X-WR-CALNAME:natur&amp;ëmwelt a.s.b.l.
X-ORIGINAL-URL:https://www.naturemweltasbl.lu/de/
X-WR-CALDESC:Veranstaltungen für natur&amp;ëmwelt a.s.b.l.
REFRESH-INTERVAL;VALUE=DURATION:PT1H
X-Robots-Tag:noindex
X-PUBLISHED-TTL:PT1H
BEGIN:VTIMEZONE
TZID:Europe/Zurich
BEGIN:DAYLIGHT
TZOFFSETFROM:+0100
TZOFFSETTO:+0200
TZNAME:CEST
DTSTART:20240331T010000
END:DAYLIGHT
BEGIN:STANDARD
TZOFFSETFROM:+0200
TZOFFSETTO:+0100
TZNAME:CET
DTSTART:20241027T010000
END:STANDARD
BEGIN:DAYLIGHT
TZOFFSETFROM:+0100
TZOFFSETTO:+0200
TZNAME:CEST
DTSTART:20250330T010000
END:DAYLIGHT
BEGIN:STANDARD
TZOFFSETFROM:+0200
TZOFFSETTO:+0100
TZNAME:CET
DTSTART:20251026T010000
END:STANDARD
BEGIN:DAYLIGHT
TZOFFSETFROM:+0100
TZOFFSETTO:+0200
TZNAME:CEST
DTSTART:20260329T010000
END:DAYLIGHT
BEGIN:STANDARD
TZOFFSETFROM:+0200
TZOFFSETTO:+0100
TZNAME:CET
DTSTART:20261025T010000
END:STANDARD
END:VTIMEZONE
BEGIN:VEVENT
DTSTART;TZID=Europe/Zurich:20250814T150000
DTEND;TZID=Europe/Zurich:20250814T180000
DTSTAMP:20260423T042603
CREATED:20250512T122215Z
LAST-MODIFIED:20250512T122427Z
UID:6720-1755183600-1755194400@www.naturemweltasbl.lu
SUMMARY:Léiffrawëschdag
DESCRIPTION:Heilpflanzen erkennen und zusammenstellen. \nDie „Krautwëschen“ werden am 14. August gemeinsam gebunden und währenddessen erfahren Sie Näheres zum „Léiffrawëschdag„-Brauch. \nAm 15. August werden die Sträuße in der Kirche von Ettelbrück nach der Segnung verteilt.
URL:https://www.naturemweltasbl.lu/de/event/leiffraweschdag/
LOCATION:Ettelbruck\, 15\, Place de Libération\, Ettelbruck\, L-9060\, Luxembourg
CATEGORIES:Workshop,Workshop/Atelier
ATTACH;FMTTYPE=image/png:https://www.naturemweltasbl.lu/wp-content/uploads/2025/05/en-dag-an-der-natur-1.png
END:VEVENT
BEGIN:VEVENT
DTSTART;TZID=Europe/Zurich:20250815T100000
DTEND;TZID=Europe/Zurich:20250815T120000
DTSTAMP:20260423T042603
CREATED:20250718T061248Z
LAST-MODIFIED:20250718T061248Z
UID:7390-1755252000-1755259200@www.naturemweltasbl.lu
SUMMARY:De Wësch – eng al Traditioun
DESCRIPTION:Nous recherchons différentes herbes de prairie et les rassemblons en un « Krautwësch ». Vous en apprendrez plus sur cette tradition\, qui fait partie du patrimoine culturel mondial de l’UNESCO depuis 2020. \nInscription : natur&ëmwelt Leideleng-Reckeng – Malou Kohn\, kohnmalou@gmail.com \nLieu : Eglise à Leudelange\, Place des Martyrs\, Leudelange \nArrêt à proximité: Leudelange\, Gemeng
URL:https://www.naturemweltasbl.lu/de/event/de-wesch-eng-al-traditioun/
LOCATION:Leudelange\, Place des Martyrs\, Leudelange\, Luxembourg
CATEGORIES:Exkursion/Excursion,Führung/Visite guidée,Workshop,Workshop/Atelier
ATTACH;FMTTYPE=image/jpeg:https://www.naturemweltasbl.lu/wp-content/uploads/2025/07/AdobeStock_212086115-scaled.jpeg
END:VEVENT
BEGIN:VEVENT
DTSTART;TZID=Europe/Zurich:20250821T110000
DTEND;TZID=Europe/Zurich:20250821T130000
DTSTAMP:20260423T042603
CREATED:20250512T081413Z
LAST-MODIFIED:20250512T081631Z
UID:6525-1755774000-1755781200@www.naturemweltasbl.lu
SUMMARY:Kochworkshop
DESCRIPTION:Am 21. August 2025 können Sie von 11:00 bis 13:00 Uhr in einem Hochbeet speisen. \nIm Rahmen der LUGA lädt natur&ëmwelt Sie ein\, an Kochworkshops zu Rezepten teilzunehmen\, die in den Beeten des 2000m²-Projekts präsentiert werden. \nWährend dieser Kochkurse lernen Sie nachhaltige Rezepte kennen\, identifizieren lokale Pflanzen und erfahren\, wie man sie verwendet. Zudem lernen Sie die Auswirkungen Ihrer Nahrungsmittelauswahl kennen. Sie werden also auch die Fläche sehen\, die benötigt wird\, um die Lebensmittel für jedes Gericht zu produzieren. \nWas ist das 2000m²-Projekt? \nDas 2000 m²-Projekt ist ein gemeinsames Projekt von IBLA a.s.b.l. (Institut fir Biologësch Landwirtschaft an Agrarkultur)\, natur&ëmwelt a.s.b.l. und co-labor s.c. Es zeigt\, dass es möglich ist\, das Wesentliche auf 2000 m² anzubauen: Brot\, Kartoffeln\, Obst\, Gemüse sowie tierische Nahrungsmittel für Fleisch\, Milch und Eier\, aber auch Baumwolle und Tabak. Das Projekt wird vom Ministerium für Umwelt\, Klima und Biodiversität finanziert. \nOrt : Vallée de la Pétrusse \nPreis: 10 € \nAnmeldung : http://tickets.luxembourg-ticket.lu/38652 \n 
URL:https://www.naturemweltasbl.lu/de/event/atelier-de-cuisine-4/
LOCATION:LUGA Science Hub\, Vallée de la Pétrusse\, Luxembourg\, 2327\, Luxembourg
CATEGORIES:Workshop,Workshop/Atelier
ATTACH;FMTTYPE=image/png:https://www.naturemweltasbl.lu/wp-content/uploads/2025/05/LUGA-ne-Event-Banner-3-2.png
END:VEVENT
END:VCALENDAR