BEGIN:VCALENDAR
VERSION:2.0
PRODID:-//natur&amp;ëmwelt a.s.b.l. - ECPv6.15.20//NONSGML v1.0//EN
CALSCALE:GREGORIAN
METHOD:PUBLISH
X-WR-CALNAME:natur&amp;ëmwelt a.s.b.l.
X-ORIGINAL-URL:https://www.naturemweltasbl.lu/de/
X-WR-CALDESC:Veranstaltungen für natur&amp;ëmwelt a.s.b.l.
REFRESH-INTERVAL;VALUE=DURATION:PT1H
X-Robots-Tag:noindex
X-PUBLISHED-TTL:PT1H
BEGIN:VTIMEZONE
TZID:Europe/Zurich
BEGIN:DAYLIGHT
TZOFFSETFROM:+0100
TZOFFSETTO:+0200
TZNAME:CEST
DTSTART:20240331T010000
END:DAYLIGHT
BEGIN:STANDARD
TZOFFSETFROM:+0200
TZOFFSETTO:+0100
TZNAME:CET
DTSTART:20241027T010000
END:STANDARD
BEGIN:DAYLIGHT
TZOFFSETFROM:+0100
TZOFFSETTO:+0200
TZNAME:CEST
DTSTART:20250330T010000
END:DAYLIGHT
BEGIN:STANDARD
TZOFFSETFROM:+0200
TZOFFSETTO:+0100
TZNAME:CET
DTSTART:20251026T010000
END:STANDARD
BEGIN:DAYLIGHT
TZOFFSETFROM:+0100
TZOFFSETTO:+0200
TZNAME:CEST
DTSTART:20260329T010000
END:DAYLIGHT
BEGIN:STANDARD
TZOFFSETFROM:+0200
TZOFFSETTO:+0100
TZNAME:CET
DTSTART:20261025T010000
END:STANDARD
END:VTIMEZONE
BEGIN:VEVENT
DTSTART;TZID=Europe/Zurich:20250606T170000
DTEND;TZID=Europe/Zurich:20250606T193000
DTSTAMP:20260423T073813
CREATED:20250508T091620Z
LAST-MODIFIED:20250508T105818Z
UID:6371-1749229200-1749238200@www.naturemweltasbl.lu
SUMMARY:Gärten für Bestäuber
DESCRIPTION:Wie kann ich meinen Garten für Bestäuber attraktiver machen? Wer sind eigentlich die Bestäuber?   \nIm Rahmen der LUGA bietet natur&ëmwelt einen Anleitungskurs zu Fördermöglichkeiten im eigenen Garten oder auf dem Balkon. Wir zeigen Ihnen \, wie Sie Ihren Garten attraktiver gestalten können und wie Sie den Bestäubern das geben können\, was sie brauchen.  \nAnmeldung unter b.jacoby@naturemwelt.lu \nWeitere Informationen zur LUGA finden Sie hier https://luga.lu/fr/.
URL:https://www.naturemweltasbl.lu/de/event/jardins-pour-pollinisateurs/
LOCATION:LUGA Science Hub\, Vallée de la Pétrusse\, Luxembourg\, 2327\, Luxembourg
CATEGORIES:Atelier,Vortrag/Conference,Workshop,Workshop/Atelier
ATTACH;FMTTYPE=image/png:https://www.naturemweltasbl.lu/wp-content/uploads/2025/05/LUGA-ne-Event-Banner-3.png
END:VEVENT
BEGIN:VEVENT
DTSTART;TZID=Europe/Zurich:20250610T193000
DTEND;TZID=Europe/Zurich:20250610T210000
DTSTAMP:20260423T073813
CREATED:20250512T095120Z
LAST-MODIFIED:20250512T095257Z
UID:6599-1749583800-1749589200@www.naturemweltasbl.lu
SUMMARY:Mauersegler Monitoring
DESCRIPTION:Mauersegler sind wahre Flugakrobaten \nVon Mitte April bis Mitte September beleben sie mit ihren lauten „Screaming Parties” unseren Himmel. \nIn dieser Schulung lernen Sie\, Brutplätze zu kartieren und Bestände fachgerecht zu erfassen. \nBei einem Rundgang zeigen wir Ihnen\, worauf es bei der Beobachtung ankommt und wie Sie Nistplätze sicher erkennen können. \nDas Angebot richtet sich an alle\, die aktiv zum Schutz der Mauersegler beitragen und sich im Rahmen von Citizen Science engagieren möchten. \nAnmeldung unter reservation@naturemwelt.lu \n 
URL:https://www.naturemweltasbl.lu/de/event/monitoring-du-martinet/
LOCATION:Esch-sur-Alzette
CATEGORIES:Randonnée pédestre,Visite guidée,Weiterbildung/Formation,Workshop
ATTACH;FMTTYPE=image/png:https://www.naturemweltasbl.lu/wp-content/uploads/2025/05/Citizen-Science-Monitoring-Banner-1.png
END:VEVENT
BEGIN:VEVENT
DTSTART;TZID=Europe/Zurich:20250618T193000
DTEND;TZID=Europe/Zurich:20250618T210000
DTSTAMP:20260423T073813
CREATED:20250512T095814Z
LAST-MODIFIED:20250512T114547Z
UID:6610-1750275000-1750280400@www.naturemweltasbl.lu
SUMMARY:Mauersegler Monitoring
DESCRIPTION:Mauersegler sind wahre Flugakrobaten \nVon Mitte April bis Mitte September beleben sie mit ihren lauten „Screaming Parties” unseren Himmel. \nIn dieser Schulung lernen Sie\, Brutplätze zu kartieren und Bestände fachgerecht zu erfassen. \nBei einem Rundgang zeigen wir Ihnen\, worauf es bei der Beobachtung ankommt und wie Sie Nistplätze sicher erkennen können. \nDas Angebot richtet sich an alle\, die aktiv zum Schutz der Mauersegler beitragen und sich im Rahmen von Citizen Science engagieren möchten. \nAnmeldung unter reservation@naturemwelt.lu \n 
URL:https://www.naturemweltasbl.lu/de/event/monitoring-du-martinet-2/
LOCATION:Wiltz
CATEGORIES:Führung/Visite guidée,Randonnée pédestre,Visite guidée,Weiterbildung/Formation,Workshop
ATTACH;FMTTYPE=image/png:https://www.naturemweltasbl.lu/wp-content/uploads/2025/05/Citizen-Science-Monitoring-Banner-2.png
END:VEVENT
BEGIN:VEVENT
DTSTART;TZID=Europe/Zurich:20250621T100000
DTEND;TZID=Europe/Zurich:20250621T120000
DTSTAMP:20260423T073813
CREATED:20250508T081049Z
LAST-MODIFIED:20250508T081242Z
UID:6356-1750500000-1750507200@www.naturemweltasbl.lu
SUMMARY:Méi wéi Beien\, ziel mat!
DESCRIPTION:Im Rahmen der LUGA (Luxembourg Urban Garden) organisiert natur&ëmwelt einen Workshop für Kinder zwischen 8 und 12 Jahren rund um unsere jährliche Insektenzählung. \nIn unserem Workshop lernen die Kinder mehr über unsere heimischen Bestäuber. Bei schlechtem Wetter basteln wir etwas zum Thema.  \nAnmeldung bis zum 1. Juni 2025 unter l.mevis@naturemwelt.lu. \nFür mehr Informationen über LUGA besuchen Sie bitte https://luga.lu/fr/.
URL:https://www.naturemweltasbl.lu/de/event/mei-wei-beien-ziel-mat/
LOCATION:LUGA Science Hub\, Vallée de la Pétrusse\, Luxembourg\, 2327\, Luxembourg
CATEGORIES:Workshop,Workshop/Atelier
ATTACH;FMTTYPE=image/png:https://www.naturemweltasbl.lu/wp-content/uploads/2025/05/LUGA-ne-Event-Banner-1.png
END:VEVENT
BEGIN:VEVENT
DTSTART;TZID=Europe/Zurich:20250626T193000
DTEND;TZID=Europe/Zurich:20250626T210000
DTSTAMP:20260423T073813
CREATED:20250512T100847Z
LAST-MODIFIED:20250512T114728Z
UID:6629-1750966200-1750971600@www.naturemweltasbl.lu
SUMMARY:Mauersegler Monitoring
DESCRIPTION:Mauersegler sind wahre Flugakrobaten \nVon Mitte April bis Mitte September beleben sie mit ihren lauten „Screaming Parties” unseren Himmel. \nIn dieser Schulung lernen Sie\, Brutplätze zu kartieren und Bestände fachgerecht zu erfassen. \nBei einem Rundgang zeigen wir Ihnen\, worauf es bei der Beobachtung ankommt und wie Sie Nistplätze sicher erkennen können. \nDas Angebot richtet sich an alle\, die aktiv zum Schutz der Mauersegler beitragen und sich im Rahmen von Citizen Science engagieren möchten. \nAnmeldung unter reservation@naturemwelt.lu \n 
URL:https://www.naturemweltasbl.lu/de/event/monitoring-du-martinet-4/
LOCATION:Luxembourg-Ville
CATEGORIES:Führung/Visite guidée,Visite guidée,Weiterbildung/Formation,Workshop
ATTACH;FMTTYPE=image/png:https://www.naturemweltasbl.lu/wp-content/uploads/2025/05/Public-Excursion-Banner-3-copy.png
END:VEVENT
END:VCALENDAR