BEGIN:VCALENDAR
VERSION:2.0
PRODID:-//natur&amp;ëmwelt a.s.b.l. - ECPv6.15.20//NONSGML v1.0//EN
CALSCALE:GREGORIAN
METHOD:PUBLISH
X-ORIGINAL-URL:https://www.naturemweltasbl.lu/de/
X-WR-CALDESC:Veranstaltungen für natur&amp;ëmwelt a.s.b.l.
REFRESH-INTERVAL;VALUE=DURATION:PT1H
X-Robots-Tag:noindex
X-PUBLISHED-TTL:PT1H
BEGIN:VTIMEZONE
TZID:Europe/Zurich
BEGIN:DAYLIGHT
TZOFFSETFROM:+0100
TZOFFSETTO:+0200
TZNAME:CEST
DTSTART:20240331T010000
END:DAYLIGHT
BEGIN:STANDARD
TZOFFSETFROM:+0200
TZOFFSETTO:+0100
TZNAME:CET
DTSTART:20241027T010000
END:STANDARD
BEGIN:DAYLIGHT
TZOFFSETFROM:+0100
TZOFFSETTO:+0200
TZNAME:CEST
DTSTART:20250330T010000
END:DAYLIGHT
BEGIN:STANDARD
TZOFFSETFROM:+0200
TZOFFSETTO:+0100
TZNAME:CET
DTSTART:20251026T010000
END:STANDARD
BEGIN:DAYLIGHT
TZOFFSETFROM:+0100
TZOFFSETTO:+0200
TZNAME:CEST
DTSTART:20260329T010000
END:DAYLIGHT
BEGIN:STANDARD
TZOFFSETFROM:+0200
TZOFFSETTO:+0100
TZNAME:CET
DTSTART:20261025T010000
END:STANDARD
END:VTIMEZONE
BEGIN:VEVENT
DTSTART;TZID=Europe/Zurich:20250518T090000
DTEND;TZID=Europe/Zurich:20250518T113000
DTSTAMP:20260423T074738
CREATED:20250508T134600Z
LAST-MODIFIED:20250508T134900Z
UID:6431-1747558800-1747567800@www.naturemweltasbl.lu
SUMMARY:Nistkastenkontrolle
DESCRIPTION:Während eines Rundganges durch den Wald kontrollieren wir die Nistkästen und beringen die Jungvögel. \n \nAnmeldung bis zum 17. Mai unter der Email-Adresse: sektioun.stad@naturemwelt.lu \n 
URL:https://www.naturemweltasbl.lu/de/event/nistkastenkontrolle/
LOCATION:P&R Kockelscheuer\, près du lac – Rue de Luxembourg\, Rue de Luxembourg\, Kockelscheuer\, L-1899\, Luxembourg
CATEGORIES:Workshop
ATTACH;FMTTYPE=image/png:https://www.naturemweltasbl.lu/wp-content/uploads/2025/05/en-dag-an-der-natur-1.png
END:VEVENT
BEGIN:VEVENT
DTSTART;TZID=Europe/Zurich:20250523T110000
DTEND;TZID=Europe/Zurich:20250523T130000
DTSTAMP:20260423T074738
CREATED:20250508T142227Z
LAST-MODIFIED:20250508T142841Z
UID:6441-1747998000-1748005200@www.naturemweltasbl.lu
SUMMARY:Kochworkshop
DESCRIPTION:Am 23. Mai 2025 können Sie von 11:00 bis 13:00 Uhr in einem Hochbeet speisen. \nIm Rahmen der LUGA lädt natur&emwelt Sie ein\, an Kochworkshops zu Rezepten teilzunehmen\, die in den Beeten des 2000m²-Projekts präsentiert werden. \nWährend dieser Kochkurse lernen Sie nachhaltige Rezepte kennen\, identifizieren lokale Pflanzen und erfahren\, wie man sie verwendet. Zudem lernen Sie die Auswirkungen Ihrer Nahrungsmittelauswahl kennen. Sie werden also auch die Fläche sehen\, die benötigt wird\, um die Lebensmittel für jedes Gericht zu produzieren.  \nWas ist das 2000m²-Projekt? \nDas 2000 m²-Projekt ist ein gemeinsames Projekt von IBLA a.s.b.l. (Institut fir Biologësch Landwirtschaft an Agrarkultur)\, natur&ëmwelt a.s.b.l. und co-labor s.c. Es zeigt\, dass es möglich ist\, das Wesentliche auf 2000 m² anzubauen: Brot\, Kartoffeln\, Obst\, Gemüse sowie tierische Nahrungsmittel für Fleisch\, Milch und Eier\, aber auch Baumwolle und Tabak. Das Projekt wird vom Ministerium für Umwelt\, Klima und Biodiversität finanziert.  \nOrt : Vallée de la Pétrusse \nPreis:  10 € \nAnmeldung : http://tickets.luxembourg-ticket.lu/38652
URL:https://www.naturemweltasbl.lu/de/event/kochkurs/
LOCATION:Vallée de la Pétrusse
CATEGORIES:Workshop,Workshop/Atelier
ATTACH;FMTTYPE=image/png:https://www.naturemweltasbl.lu/wp-content/uploads/2025/05/LUGA-ne-Event-Banner-3-2.png
END:VEVENT
END:VCALENDAR