BEGIN:VCALENDAR
VERSION:2.0
PRODID:-//natur&amp;ëmwelt a.s.b.l. - ECPv6.15.20//NONSGML v1.0//EN
CALSCALE:GREGORIAN
METHOD:PUBLISH
X-ORIGINAL-URL:https://www.naturemweltasbl.lu/de/
X-WR-CALDESC:Veranstaltungen für natur&amp;ëmwelt a.s.b.l.
REFRESH-INTERVAL;VALUE=DURATION:PT1H
X-Robots-Tag:noindex
X-PUBLISHED-TTL:PT1H
BEGIN:VTIMEZONE
TZID:Europe/Zurich
BEGIN:DAYLIGHT
TZOFFSETFROM:+0100
TZOFFSETTO:+0200
TZNAME:CEST
DTSTART:20230326T010000
END:DAYLIGHT
BEGIN:STANDARD
TZOFFSETFROM:+0200
TZOFFSETTO:+0100
TZNAME:CET
DTSTART:20231029T010000
END:STANDARD
BEGIN:DAYLIGHT
TZOFFSETFROM:+0100
TZOFFSETTO:+0200
TZNAME:CEST
DTSTART:20240331T010000
END:DAYLIGHT
BEGIN:STANDARD
TZOFFSETFROM:+0200
TZOFFSETTO:+0100
TZNAME:CET
DTSTART:20241027T010000
END:STANDARD
BEGIN:DAYLIGHT
TZOFFSETFROM:+0100
TZOFFSETTO:+0200
TZNAME:CEST
DTSTART:20250330T010000
END:DAYLIGHT
BEGIN:STANDARD
TZOFFSETFROM:+0200
TZOFFSETTO:+0100
TZNAME:CET
DTSTART:20251026T010000
END:STANDARD
END:VTIMEZONE
BEGIN:VEVENT
DTSTART;TZID=Europe/Zurich:20240810T100000
DTEND;TZID=Europe/Zurich:20240810T100000
DTSTAMP:20260424T085753
CREATED:20240919T124307Z
LAST-MODIFIED:20240919T124307Z
UID:2532-1723284000-1723284000@www.naturemweltasbl.lu
SUMMARY:La pharmacie du jardin Du romarin au souci
DESCRIPTION:Dans cet atelier\, vous découvrirez comment les herbes et les fleurs du jardin peuvent être utilisées pour la santé. Vous pouvez produire des huiles médicinales\, des extraits alcooliques et des onguents sur place. Apportez 2 verres 250 ml avec des bouchons à visFrais de participation (matériel compris): 50 €\, membres 45 €.
URL:https://www.naturemweltasbl.lu/de/event/la-pharmacie-du-jardin-du-romarin-au-souci/
CATEGORIES:Workshop
END:VEVENT
BEGIN:VEVENT
DTSTART;TZID=Europe/Zurich:20240814T150000
DTEND;TZID=Europe/Zurich:20240814T150000
DTSTAMP:20260424T085753
CREATED:20240919T124635Z
LAST-MODIFIED:20240919T124635Z
UID:2567-1723647600-1723647600@www.naturemweltasbl.lu
SUMMARY:Assomption
DESCRIPTION:Création de gerbes traditionnelles „Krautwëschen“ avec des plantes médicinales et explications le 14 août. Bénédiction et distribution des gerbes à l’église d’Ettelbruck le 15 août.
URL:https://www.naturemweltasbl.lu/de/event/assomption/
CATEGORIES:Workshop
ATTACH;FMTTYPE=image/jpeg:https://www.naturemweltasbl.lu/wp-content/uploads/2024/09/liffrawschdag_2.jpg
END:VEVENT
END:VCALENDAR