BEGIN:VCALENDAR
VERSION:2.0
PRODID:-//natur&amp;ëmwelt a.s.b.l. - ECPv6.15.20//NONSGML v1.0//EN
CALSCALE:GREGORIAN
METHOD:PUBLISH
X-ORIGINAL-URL:https://www.naturemweltasbl.lu/de/
X-WR-CALDESC:Veranstaltungen für natur&amp;ëmwelt a.s.b.l.
REFRESH-INTERVAL;VALUE=DURATION:PT1H
X-Robots-Tag:noindex
X-PUBLISHED-TTL:PT1H
BEGIN:VTIMEZONE
TZID:Europe/Zurich
BEGIN:DAYLIGHT
TZOFFSETFROM:+0100
TZOFFSETTO:+0200
TZNAME:CEST
DTSTART:20230326T010000
END:DAYLIGHT
BEGIN:STANDARD
TZOFFSETFROM:+0200
TZOFFSETTO:+0100
TZNAME:CET
DTSTART:20231029T010000
END:STANDARD
BEGIN:DAYLIGHT
TZOFFSETFROM:+0100
TZOFFSETTO:+0200
TZNAME:CEST
DTSTART:20240331T010000
END:DAYLIGHT
BEGIN:STANDARD
TZOFFSETFROM:+0200
TZOFFSETTO:+0100
TZNAME:CET
DTSTART:20241027T010000
END:STANDARD
BEGIN:DAYLIGHT
TZOFFSETFROM:+0100
TZOFFSETTO:+0200
TZNAME:CEST
DTSTART:20250330T010000
END:DAYLIGHT
BEGIN:STANDARD
TZOFFSETFROM:+0200
TZOFFSETTO:+0100
TZNAME:CET
DTSTART:20251026T010000
END:STANDARD
END:VTIMEZONE
BEGIN:VEVENT
DTSTART;TZID=Europe/Zurich:20240608T100000
DTEND;TZID=Europe/Zurich:20240608T100000
DTSTAMP:20260424T085811
CREATED:20240919T124251Z
LAST-MODIFIED:20240919T124251Z
UID:2525-1717840800-1717840800@www.naturemweltasbl.lu
SUMMARY:Cuisine des fleurs & abeilles sauvages
DESCRIPTION:Un cours de cuisine d’un genre particulier. Qu’est-ce qui rend la fleur intéressante pour les abeilles sauvages? Nous démontons la fleur\, l’examinons et essayons des recettes simples qui sont amusantes et contribuent à la diversité des fleurs dans le jardin. Les abeilles sauvages & Co se réjouiront également. Frais de participation: 5€.
URL:https://www.naturemweltasbl.lu/de/event/cuisine-des-fleurs-abeilles-sauvages/
CATEGORIES:Workshop
END:VEVENT
BEGIN:VEVENT
DTSTART;TZID=Europe/Zurich:20240627T180000
DTEND;TZID=Europe/Zurich:20240627T180000
DTSTAMP:20260424T085811
CREATED:20240919T124335Z
LAST-MODIFIED:20240919T124335Z
UID:2537-1719511200-1719511200@www.naturemweltasbl.lu
SUMMARY:Afterwork douceurs du champ des 2000m2
DESCRIPTION:Après la journée de travail\, nous allons parcourir notre champ mondial des 2000m2 pour découvrir et cueillir des fraises ou des framboises sucrées. Après de brèves explications sur notre production alimentaire\, nous allons confectionner une petite friandise en utilisant ces fruits. Frais de participation: 10 € (membres)\, 15€ (non-membres).
URL:https://www.naturemweltasbl.lu/de/event/afterwork-douceurs-du-champ-des-2000m2/
CATEGORIES:Workshop
END:VEVENT
END:VCALENDAR