BEGIN:VCALENDAR
VERSION:2.0
PRODID:-//natur&amp;ëmwelt a.s.b.l. - ECPv6.15.20//NONSGML v1.0//EN
CALSCALE:GREGORIAN
METHOD:PUBLISH
X-ORIGINAL-URL:https://www.naturemweltasbl.lu/de/
X-WR-CALDESC:Veranstaltungen für natur&amp;ëmwelt a.s.b.l.
REFRESH-INTERVAL;VALUE=DURATION:PT1H
X-Robots-Tag:noindex
X-PUBLISHED-TTL:PT1H
BEGIN:VTIMEZONE
TZID:Europe/Zurich
BEGIN:DAYLIGHT
TZOFFSETFROM:+0100
TZOFFSETTO:+0200
TZNAME:CEST
DTSTART:20240331T010000
END:DAYLIGHT
BEGIN:STANDARD
TZOFFSETFROM:+0200
TZOFFSETTO:+0100
TZNAME:CET
DTSTART:20241027T010000
END:STANDARD
BEGIN:DAYLIGHT
TZOFFSETFROM:+0100
TZOFFSETTO:+0200
TZNAME:CEST
DTSTART:20250330T010000
END:DAYLIGHT
BEGIN:STANDARD
TZOFFSETFROM:+0200
TZOFFSETTO:+0100
TZNAME:CET
DTSTART:20251026T010000
END:STANDARD
BEGIN:DAYLIGHT
TZOFFSETFROM:+0100
TZOFFSETTO:+0200
TZNAME:CEST
DTSTART:20260329T010000
END:DAYLIGHT
BEGIN:STANDARD
TZOFFSETFROM:+0200
TZOFFSETTO:+0100
TZNAME:CET
DTSTART:20261025T010000
END:STANDARD
END:VTIMEZONE
BEGIN:VEVENT
DTSTART;TZID=Europe/Zurich:20251115T100000
DTEND;TZID=Europe/Zurich:20251115T160000
DTSTAMP:20260422T205911
CREATED:20251104T082654Z
LAST-MODIFIED:20251104T082654Z
UID:8903-1763200800-1763222400@www.naturemweltasbl.lu
SUMMARY:Geflatter und Geflüster
DESCRIPTION:Ein Flügelschlag\, dann huscht ein Schatten durch das schummerige Abendlicht. Das muss eine Fledermaus sein.  \nFledermäuse sind wirklich außergewöhnlich: Sie sind die einzigen Säugetiere\, die fliegen können. Entgegen ihrem teils schlechten Ruf erweisen sie uns wichtige Dienste. \nAm 15. November entdecken wir die Wahrheit über diese faszinierenden Kreaturen\, überlegen uns zusammen mit den Rotondes eine Geschichte dazu und bauen eine Nistkiste für Fledermäuse. Für Essen und Getränke ist gesorgt.  \nFür Kinder von 8 bis 12 Jahren. Kosten: 40 Euro  \nAnmeldung zur Veranstaltung über den folgenden Link: eventix.shop/ber3d5mn
URL:https://www.naturemweltasbl.lu/de/event/geflatter-und-gefluester/
LOCATION:D’Haus vun der Natur A.S.B.L\, 5\, route de Luxembourg\, Kockelscheuer\, L-1899\, Luxembourg
CATEGORIES:Veranstaltung/Evenement,Vortrag/Conference,Workshop/Atelier
ATTACH;FMTTYPE=image/jpeg:https://www.naturemweltasbl.lu/wp-content/uploads/2025/11/AdobeStock_501012207-scaled.jpeg
END:VEVENT
BEGIN:VEVENT
DTSTART;TZID=Europe/Zurich:20251116T153000
DTEND;TZID=Europe/Zurich:20251116T170000
DTSTAMP:20260422T205911
CREATED:20251024T074309Z
LAST-MODIFIED:20251024T074748Z
UID:8806-1763307000-1763312400@www.naturemweltasbl.lu
SUMMARY:Kaffi & Klima: festive gathering and open mic for the planet 🎤 #COP30
DESCRIPTION:Die COP30 findet dieses Jahr vom 10. bis 21. November in Belém\, im Herzen des brasilianischen Amazonasgebiets\, statt. Die Konferenz wird sich auf den Schutz des Planeten für die Zukunft der Menschheit konzentrieren und die Bedeutung des Amazonasgebiets und der indigenen Völker für die globale Klimaregulierung hervorheben. \n\nAus diesem Anlass organisiert Votum Klima „Kaffi & Klima“: eine offene Bühne für Menschen\, die ihre Gedanken\, Emotionen oder Ideen für Klimagerechtigkeit und die Zukunft unseres Planeten zum Ausdruck bringen möchten. Dieses Wort kann viele Formen annehmen: Musik\, Worte\, Bewegung oder Stille. \n\nKommen Sie zu uns für einen Kaffee und einen Moment des kreativen Ausdrucks in einer multikulturellen Umgebung!\n\nMöchten Sie an der offenen Bühne teilnehmen? Alle Arten von Beiträgen sind willkommen: künstlerisch\, poetisch\, politisch… Angehörige von Minderheiten oder Randgruppen werden ausdrücklich zur Teilnahme ermutigt. \n\nBewerben Sie sich bis zum 2. November\, indem Sie dieses Formular ausfüllen: https: //cloud.cell.lu/apps/forms/s/o8y7RrENfSG9gZYwHXM9rMdY\n\nVotum Klima ist eine Plattform von 15 luxemburgischen Non-Profit-Organisationen\, die sich für mehr kollektive und politische Maßnahmen gegen die Klimakrise einsetzen. Weitere Informationen finden Sie unter www.votumklima.lu
URL:https://www.naturemweltasbl.lu/de/event/kaffi-klima-rencontre-festive-et-micro-ouvert-pour-la-planete-cop30/
LOCATION:Place de Clairefontaine\, Place de Clairefontaine\, Luxembourg\, 1341\, Luxembourg
CATEGORIES:Conférence,Veranstaltung/Evenement,Vortrag/Conference
ATTACH;FMTTYPE=image/jpeg:https://www.naturemweltasbl.lu/wp-content/uploads/2025/10/564611155_1120593443619762_8020223794158548779_n.jpg
END:VEVENT
END:VCALENDAR