BEGIN:VCALENDAR
VERSION:2.0
PRODID:-//natur&amp;ëmwelt a.s.b.l. - ECPv6.15.20//NONSGML v1.0//EN
CALSCALE:GREGORIAN
METHOD:PUBLISH
X-WR-CALNAME:natur&amp;ëmwelt a.s.b.l.
X-ORIGINAL-URL:https://www.naturemweltasbl.lu/de/
X-WR-CALDESC:Veranstaltungen für natur&amp;ëmwelt a.s.b.l.
REFRESH-INTERVAL;VALUE=DURATION:PT1H
X-Robots-Tag:noindex
X-PUBLISHED-TTL:PT1H
BEGIN:VTIMEZONE
TZID:Europe/Zurich
BEGIN:DAYLIGHT
TZOFFSETFROM:+0100
TZOFFSETTO:+0200
TZNAME:CEST
DTSTART:20230326T010000
END:DAYLIGHT
BEGIN:STANDARD
TZOFFSETFROM:+0200
TZOFFSETTO:+0100
TZNAME:CET
DTSTART:20231029T010000
END:STANDARD
BEGIN:DAYLIGHT
TZOFFSETFROM:+0100
TZOFFSETTO:+0200
TZNAME:CEST
DTSTART:20240331T010000
END:DAYLIGHT
BEGIN:STANDARD
TZOFFSETFROM:+0200
TZOFFSETTO:+0100
TZNAME:CET
DTSTART:20241027T010000
END:STANDARD
BEGIN:DAYLIGHT
TZOFFSETFROM:+0100
TZOFFSETTO:+0200
TZNAME:CEST
DTSTART:20250330T010000
END:DAYLIGHT
BEGIN:STANDARD
TZOFFSETFROM:+0200
TZOFFSETTO:+0100
TZNAME:CET
DTSTART:20251026T010000
END:STANDARD
END:VTIMEZONE
BEGIN:VEVENT
DTSTART;TZID=Europe/Zurich:20240501T100000
DTEND;TZID=Europe/Zurich:20240501T100000
DTSTAMP:20260421T110848
CREATED:20240919T124558Z
LAST-MODIFIED:20240919T124558Z
UID:2565-1714557600-1714557600@www.naturemweltasbl.lu
SUMMARY:Randonnée dans la nature
DESCRIPTION:Rejoignez-nous lors d’une randonnée dans le „Waarkdall“ avec des informations sur flore et faune des surfaces de SICONA. Activité pour familles. Emportez des bottes de marche. Pour conclure en bonne convivialité\, vous pouvez ramener votre propre snack.
URL:https://www.naturemweltasbl.lu/de/event/randonnee-dans-la-nature/
CATEGORIES:Randonnée pédestre
ATTACH;FMTTYPE=image/jpeg:https://www.naturemweltasbl.lu/wp-content/uploads/2024/09/ausflug_natur_und_kultur.jpg
END:VEVENT
BEGIN:VEVENT
DTSTART;TZID=Europe/Zurich:20240509T173000
DTEND;TZID=Europe/Zurich:20240509T173000
DTSTAMP:20260421T110848
CREATED:20240919T124335Z
LAST-MODIFIED:20240919T124335Z
UID:2538-1715275800-1715275800@www.naturemweltasbl.lu
SUMMARY:Rallye dans la nature
DESCRIPTION:Rallye de ±8 km dans Bettembourg et ses environs. Prière de ne pas oublier votre pique-nique. Des informations supplémentaires vous seront communiquées au moment de l’inscription.
URL:https://www.naturemweltasbl.lu/de/event/rallye-dans-la-nature/
CATEGORIES:Randonnée pédestre
END:VEVENT
BEGIN:VEVENT
DTSTART;TZID=Europe/Zurich:20240511T090000
DTEND;TZID=Europe/Zurich:20240511T090000
DTSTAMP:20260421T110848
CREATED:20240919T123940Z
LAST-MODIFIED:20240919T123940Z
UID:2497-1715418000-1715418000@www.naturemweltasbl.lu
SUMMARY:Journée mondiale des oiseaux migrateurs
DESCRIPTION:Pendant la Journée mondiale des oiseaux migrateurs\, nous nous promènerons dans la réserve naturelle Schlammwiss. Nous parlerons de la migration des oiseaux et nous essaierons d’observer certains oiseaux. Ensuite\, nous passerons par la station de baguage\, où nous aurons un aperçu du travail scientifique du baguage des oiseaux.
URL:https://www.naturemweltasbl.lu/de/event/journee-mondiale-des-oiseaux-migrateurs/
CATEGORIES:Randonnée pédestre
END:VEVENT
BEGIN:VEVENT
DTSTART;TZID=Europe/Zurich:20240511T100000
DTEND;TZID=Europe/Zurich:20240511T100000
DTSTAMP:20260421T110848
CREATED:20240919T124542Z
LAST-MODIFIED:20240919T124542Z
UID:2557-1715421600-1715421600@www.naturemweltasbl.lu
SUMMARY:Accompagnement de la transhumance: Ranndonnée familiale
DESCRIPTION:Une randonnée ovine de +- 4 km dans le Kiischpelt\, spécialement pour les familles. Nous accompagnons le troupeau de moutons d’un pâturage à l’autre. Elle sera suivie d’une activité pour enfants organisée par l’équipe d’Ouri. Veuillez prévoir votre pique-nique et vos boissons. Prix : 15€/personne\, gratuit pour les moins de 4 ans.
URL:https://www.naturemweltasbl.lu/de/event/accompagnement-de-la-transhumance-ranndonnee-familiale/
CATEGORIES:Randonnée pédestre
ATTACH;FMTTYPE=image/jpeg:https://www.naturemweltasbl.lu/wp-content/uploads/2024/09/20220514_102756-scaled-1NWv5A.tmp_.jpg
END:VEVENT
BEGIN:VEVENT
DTSTART;TZID=Europe/Zurich:20240512T090000
DTEND;TZID=Europe/Zurich:20240512T090000
DTSTAMP:20260421T110848
CREATED:20240919T124527Z
LAST-MODIFIED:20240919T124527Z
UID:2548-1715504400-1715504400@www.naturemweltasbl.lu
SUMMARY:Berger itinérant pour un jour
DESCRIPTION:Rejoignez-nous quand les moutons sont conduits au nord du pays d’une réserve à l’autre. La distance est de +- 8 km et la vitesse n’est pas à sous-estimer. L’inscription est obligatoire\, comme le lieu de rencontre ne sera communiqué qu’ultérieurement. Le nombre de place est limité. Prix: 15 € par personne\, enfants <4 ans gratuits
URL:https://www.naturemweltasbl.lu/de/event/berger-itinerant-pour-un-jour/
CATEGORIES:Randonnée pédestre
ATTACH;FMTTYPE=image/jpeg:https://www.naturemweltasbl.lu/wp-content/uploads/2024/09/img_4654.jpg
END:VEVENT
BEGIN:VEVENT
DTSTART;TZID=Europe/Zurich:20240531T170000
DTEND;TZID=Europe/Zurich:20240531T170000
DTSTAMP:20260421T110848
CREATED:20240919T124836Z
LAST-MODIFIED:20240919T124836Z
UID:2576-1717174800-1717174800@www.naturemweltasbl.lu
SUMMARY:Source et cours supérieur de la Syre
DESCRIPTION:La Syre jaillit à Syren\, où elle traverse\, modestement\, sur son premier kilomètre une large vallée humide. Sur un circuit de 7\,7nkm explorerons le cours supérieur du cours d’eau. Nous traverserons ensuite les versants boisés\, formés par le grès du Luxembourg\, la plus importante nappe phréatique de la région.
URL:https://www.naturemweltasbl.lu/de/event/source-et-cours-superieur-de-la-syre/
CATEGORIES:Randonnée pédestre
END:VEVENT
END:VCALENDAR