BEGIN:VCALENDAR
VERSION:2.0
PRODID:-//natur&amp;ëmwelt a.s.b.l. - ECPv6.15.20//NONSGML v1.0//EN
CALSCALE:GREGORIAN
METHOD:PUBLISH
X-WR-CALNAME:natur&amp;ëmwelt a.s.b.l.
X-ORIGINAL-URL:https://www.naturemweltasbl.lu/de/
X-WR-CALDESC:Veranstaltungen für natur&amp;ëmwelt a.s.b.l.
REFRESH-INTERVAL;VALUE=DURATION:PT1H
X-Robots-Tag:noindex
X-PUBLISHED-TTL:PT1H
BEGIN:VTIMEZONE
TZID:Europe/Zurich
BEGIN:DAYLIGHT
TZOFFSETFROM:+0100
TZOFFSETTO:+0200
TZNAME:CEST
DTSTART:20230326T010000
END:DAYLIGHT
BEGIN:STANDARD
TZOFFSETFROM:+0200
TZOFFSETTO:+0100
TZNAME:CET
DTSTART:20231029T010000
END:STANDARD
BEGIN:DAYLIGHT
TZOFFSETFROM:+0100
TZOFFSETTO:+0200
TZNAME:CEST
DTSTART:20240331T010000
END:DAYLIGHT
BEGIN:STANDARD
TZOFFSETFROM:+0200
TZOFFSETTO:+0100
TZNAME:CET
DTSTART:20241027T010000
END:STANDARD
BEGIN:DAYLIGHT
TZOFFSETFROM:+0100
TZOFFSETTO:+0200
TZNAME:CEST
DTSTART:20250330T010000
END:DAYLIGHT
BEGIN:STANDARD
TZOFFSETFROM:+0200
TZOFFSETTO:+0100
TZNAME:CET
DTSTART:20251026T010000
END:STANDARD
END:VTIMEZONE
BEGIN:VEVENT
DTSTART;TZID=Europe/Zurich:20240806T110000
DTEND;TZID=Europe/Zurich:20240806T110000
DTSTAMP:20260422T072407
CREATED:20240919T124902Z
LAST-MODIFIED:20240919T124902Z
UID:2581-1722942000-1722942000@www.naturemweltasbl.lu
SUMMARY:Cuisine de feu
DESCRIPTION:Nous sommes des cuisiniers du feu et préparons notre déjeuner pour le cuire dans un four en argile et sur un feu ouvert. Nous le dégustons très agréablement dans une ambiance conviviale . Activité pour les enfants de 6 à 12 ans.
URL:https://www.naturemweltasbl.lu/de/event/cuisine-de-feu/
CATEGORIES:Jeunes publics
ATTACH;FMTTYPE=image/jpeg:https://www.naturemweltasbl.lu/wp-content/uploads/2024/09/a24b891ff9ee4c3e9a8df08770f1e6ae_2.jpg
END:VEVENT
BEGIN:VEVENT
DTSTART;TZID=Europe/Zurich:20240821T160000
DTEND;TZID=Europe/Zurich:20240821T160000
DTSTAMP:20260422T072407
CREATED:20240919T124308Z
LAST-MODIFIED:20240919T124308Z
UID:2533-1724256000-1724256000@www.naturemweltasbl.lu
SUMMARY:Camp de baguage
DESCRIPTION:Pendant trois jours\, des jeunes de 13 à 18 ans sont initiés à la méthodologie du baguage scientifique des oiseaux. Dans les réserves naturelles „Haff Réimech“ à Remerschen et „Schlammwiss“ à Uebersyren\, les jeunes apprennent à identifier et à baguer les différentes espèces d’oiseaux.
URL:https://www.naturemweltasbl.lu/de/event/camp-de-baguage/
CATEGORIES:Jeunes publics
END:VEVENT
END:VCALENDAR