BEGIN:VCALENDAR
VERSION:2.0
PRODID:-//natur&amp;ëmwelt a.s.b.l. - ECPv6.15.20//NONSGML v1.0//EN
CALSCALE:GREGORIAN
METHOD:PUBLISH
X-ORIGINAL-URL:https://www.naturemweltasbl.lu/de/
X-WR-CALDESC:Veranstaltungen für natur&amp;ëmwelt a.s.b.l.
REFRESH-INTERVAL;VALUE=DURATION:PT1H
X-Robots-Tag:noindex
X-PUBLISHED-TTL:PT1H
BEGIN:VTIMEZONE
TZID:Europe/Zurich
BEGIN:DAYLIGHT
TZOFFSETFROM:+0100
TZOFFSETTO:+0200
TZNAME:CEST
DTSTART:20240331T010000
END:DAYLIGHT
BEGIN:STANDARD
TZOFFSETFROM:+0200
TZOFFSETTO:+0100
TZNAME:CET
DTSTART:20241027T010000
END:STANDARD
BEGIN:DAYLIGHT
TZOFFSETFROM:+0100
TZOFFSETTO:+0200
TZNAME:CEST
DTSTART:20250330T010000
END:DAYLIGHT
BEGIN:STANDARD
TZOFFSETFROM:+0200
TZOFFSETTO:+0100
TZNAME:CET
DTSTART:20251026T010000
END:STANDARD
BEGIN:DAYLIGHT
TZOFFSETFROM:+0100
TZOFFSETTO:+0200
TZNAME:CEST
DTSTART:20260329T010000
END:DAYLIGHT
BEGIN:STANDARD
TZOFFSETFROM:+0200
TZOFFSETTO:+0100
TZNAME:CET
DTSTART:20261025T010000
END:STANDARD
END:VTIMEZONE
BEGIN:VEVENT
DTSTART;TZID=Europe/Zurich:20250208T110000
DTEND;TZID=Europe/Zurich:20250208T170000
DTSTAMP:20260422T004401
CREATED:20250129T144048Z
LAST-MODIFIED:20250129T144752Z
UID:5430-1739012400-1739034000@www.naturemweltasbl.lu
SUMMARY:Welttag der Feuchtgebiete
DESCRIPTION:Feiere mit uns den World Wetlands Day und entdecke die faszinierende Welt der Feuchtgebiete! Am 08. Februar 2025 laden wir dich herzlich ein\, die Bedeutung dieser wertvollen Lebensräume hautnah zu erleben. Feuchtgebiete wie Moore\, Auen und Sümpfe spielen eine zentrale Rolle für unser Ökosystem. \nAnmledung : schlammwiss@gmail.com \nTreffpunkt : Parking au terrain de foot Munsbach \nOrganisator : Natur- a Vulleschutzveräin Ieweschte Syrdall
URL:https://www.naturemweltasbl.lu/de/event/journee-mondiale-des-zones-humides/
CATEGORIES:Führung/Visite guidée
ATTACH;FMTTYPE=image/png:https://www.naturemweltasbl.lu/wp-content/uploads/2025/01/Guided-tour-trough-the-wetland-Schlammwiss-Brill-in-Uebersyren-10.02.2024-9-a.m.-1080-x-1350-px.png
END:VEVENT
BEGIN:VEVENT
DTSTART;VALUE=DATE:20250221
DTEND;VALUE=DATE:20250224
DTSTAMP:20260422T004401
CREATED:20250114T095625Z
LAST-MODIFIED:20250114T095830Z
UID:5174-1740096000-1740355199@www.naturemweltasbl.lu
SUMMARY:Vogelbeobachtung in Zeeland
DESCRIPTION:Die Provinz Zeeland in den Niederlanden ist mit seiner wunderschönen Küste an der Nordsee ein wahres Paradies für Vögel. \nBei einem gemeinsamen Wochenendausflug erkunden wir die verschiedenen Inseln und Halbinseln und beobachten die einzigartige Vogelwelt in Zeeland. \nBei unseren Streifzügen durch die zeeländische Natur bekommen wir die Möglichkeit bei einer Robbensafari – neben seltenen Vogelarten – auch auf Robben und eventuell sogar Schweinswale zu treffen. Übernachtet wird in einer besonderen Jugendherberge – im Schloss Westhove in Domburg. \nSei dabei und genieße mit uns die salzige Meeresluft und die Schönheit der Natur in Zeeland! \nFreitag-Sonntag\, 21. – 23. Februar \n250 € \nAnmeldung per E-Mail an jugend@naturemwelt.lu bis zum 24.01.
URL:https://www.naturemweltasbl.lu/de/event/observation-des-oiseaux-au-zeeland/
CATEGORIES:Exkursion/Excursion,Führung/Visite guidée,Kinder/Jugend/Jeunes publics
ATTACH;FMTTYPE=image/png:https://www.naturemweltasbl.lu/wp-content/uploads/2025/01/Zeeland_2.png
END:VEVENT
END:VCALENDAR