BEGIN:VCALENDAR
VERSION:2.0
PRODID:-//natur&amp;ëmwelt a.s.b.l. - ECPv6.15.20//NONSGML v1.0//EN
CALSCALE:GREGORIAN
METHOD:PUBLISH
X-WR-CALNAME:natur&amp;ëmwelt a.s.b.l.
X-ORIGINAL-URL:https://www.naturemweltasbl.lu/de/
X-WR-CALDESC:Veranstaltungen für natur&amp;ëmwelt a.s.b.l.
REFRESH-INTERVAL;VALUE=DURATION:PT1H
X-Robots-Tag:noindex
X-PUBLISHED-TTL:PT1H
BEGIN:VTIMEZONE
TZID:Europe/Zurich
BEGIN:DAYLIGHT
TZOFFSETFROM:+0100
TZOFFSETTO:+0200
TZNAME:CEST
DTSTART:20250330T010000
END:DAYLIGHT
BEGIN:STANDARD
TZOFFSETFROM:+0200
TZOFFSETTO:+0100
TZNAME:CET
DTSTART:20251026T010000
END:STANDARD
BEGIN:DAYLIGHT
TZOFFSETFROM:+0100
TZOFFSETTO:+0200
TZNAME:CEST
DTSTART:20260329T010000
END:DAYLIGHT
BEGIN:STANDARD
TZOFFSETFROM:+0200
TZOFFSETTO:+0100
TZNAME:CET
DTSTART:20261025T010000
END:STANDARD
BEGIN:DAYLIGHT
TZOFFSETFROM:+0100
TZOFFSETTO:+0200
TZNAME:CEST
DTSTART:20270328T010000
END:DAYLIGHT
BEGIN:STANDARD
TZOFFSETFROM:+0200
TZOFFSETTO:+0100
TZNAME:CET
DTSTART:20271031T010000
END:STANDARD
END:VTIMEZONE
BEGIN:VEVENT
DTSTART;TZID=Europe/Zurich:20260422T170000
DTEND;TZID=Europe/Zurich:20260422T193000
DTSTAMP:20260423T015842
CREATED:20260325T073653Z
LAST-MODIFIED:20260325T074035Z
UID:10445-1776877200-1776886200@www.naturemweltasbl.lu
SUMMARY:Marche pour la terre
DESCRIPTION:On April 22nd\, for Earth Day\, join the civil society organizations united within Votum Klima.\nWe march not only in protest\, but to celebrate the beauty of our planet and to affirm a deep conviction: Nature has a value that far transcends any price tag.\n\nPROGRAMME17:00 | Welcome (Luxembourg Central Station): Gathering and distribution of song sheets.\n17:30 | Concert: Choirs from across Luxembourg unite their voices for the international STOP ECOCIDE campaign: a powerful moment to celebrate all living things!\n18:00 | Departure of the March: (Meeting point: in front of the CFL/Delhaize construction site). A festive\, joyful\, and committed musical procession to the Chamber of Deputies.\n19:00 | Arrival at the Chamber of Deputies: Presentation of the climate justice demands from Luxembourg’s civil society and the Votum Klima network to the government.\n19:15 | Closing: Singing and shared community moments.\nWant to get ready?\nJoin our sign-making workshop on Wednesday\, 15 April from 16:00 to 18:00 at CITIM\, followed by a public rehearsal at 18:30 at Luxembourg Central Station.\nTogether\, let’s raise our voices for our planet!
URL:https://www.naturemweltasbl.lu/de/event/marche-pour-la-terre/
ATTACH;FMTTYPE=image/png:https://www.naturemweltasbl.lu/wp-content/uploads/2026/03/Screenshot-2026-03-25-at-08.31.32.png
END:VEVENT
END:VCALENDAR