BEGIN:VCALENDAR
VERSION:2.0
PRODID:-//natur&amp;ëmwelt a.s.b.l. - ECPv6.15.20//NONSGML v1.0//EN
CALSCALE:GREGORIAN
METHOD:PUBLISH
X-WR-CALNAME:natur&amp;ëmwelt a.s.b.l.
X-ORIGINAL-URL:https://www.naturemweltasbl.lu/de/
X-WR-CALDESC:Veranstaltungen für natur&amp;ëmwelt a.s.b.l.
REFRESH-INTERVAL;VALUE=DURATION:PT1H
X-Robots-Tag:noindex
X-PUBLISHED-TTL:PT1H
BEGIN:VTIMEZONE
TZID:Europe/Zurich
BEGIN:DAYLIGHT
TZOFFSETFROM:+0100
TZOFFSETTO:+0200
TZNAME:CEST
DTSTART:20250330T010000
END:DAYLIGHT
BEGIN:STANDARD
TZOFFSETFROM:+0200
TZOFFSETTO:+0100
TZNAME:CET
DTSTART:20251026T010000
END:STANDARD
BEGIN:DAYLIGHT
TZOFFSETFROM:+0100
TZOFFSETTO:+0200
TZNAME:CEST
DTSTART:20260329T010000
END:DAYLIGHT
BEGIN:STANDARD
TZOFFSETFROM:+0200
TZOFFSETTO:+0100
TZNAME:CET
DTSTART:20261025T010000
END:STANDARD
BEGIN:DAYLIGHT
TZOFFSETFROM:+0100
TZOFFSETTO:+0200
TZNAME:CEST
DTSTART:20270328T010000
END:DAYLIGHT
BEGIN:STANDARD
TZOFFSETFROM:+0200
TZOFFSETTO:+0100
TZNAME:CET
DTSTART:20271031T010000
END:STANDARD
END:VTIMEZONE
BEGIN:VEVENT
DTSTART;TZID=Europe/Zurich:20260419T140000
DTEND;TZID=Europe/Zurich:20260419T163000
DTSTAMP:20260419T202339
CREATED:20260403T134539Z
LAST-MODIFIED:20260403T135600Z
UID:10507-1776607200-1776616200@www.naturemweltasbl.lu
SUMMARY:Nature lover's linocut workshop
DESCRIPTION:Ein Workshop zum Thema Stoffdruck für Naturliebhaber (Anfänger). Alle Materialien werden gestellt. Entwerfen und schneiden Sie Ihr persönliches Design\, um Ihre eigene Tragetasche zu bedrucken oder einen Ihrer Lieblingsgegenstände zu personalisieren.Workshop by Mea Bateman. \nOrt:  CNF Biodiversum \nSprachen: EN\, FR \nAnmelung bis 12.04 \nKontakt: biodiversum@anf.etat.lu ou 24756531
URL:https://www.naturemweltasbl.lu/de/event/nature-lovers-linocut-workshop/
ATTACH;FMTTYPE=image/jpeg:https://www.naturemweltasbl.lu/wp-content/uploads/2026/03/En-Dag-an-der-Natur-Cover.jpg
END:VEVENT
BEGIN:VEVENT
DTSTART;TZID=Europe/Zurich:20260419T150000
DTEND;TZID=Europe/Zurich:20260419T163000
DTSTAMP:20260419T202339
CREATED:20260331T083649Z
LAST-MODIFIED:20260331T084033Z
UID:10477-1776610800-1776616200@www.naturemweltasbl.lu
SUMMARY:Der "Gringe Mann"
DESCRIPTION:Der „Gringe Mann“ ist der Geist und Wächter des Waldes. Er wird Ihnen Legenden\, Mythen und Geheimnisse der Natur erzählen. Lernen Sie mit ihm die Eigenschaften verschiedener Bäume und Heilpflanzen kennen – auf dieser Kräuterwanderung der besonderen Art. \nAnmeldung bis: 18.04. \nOrt: Parking Bëschkierficht Oenneschtenbësch\, CR303 L-8526 zwischen Colpach-Haut und Roodt \nSprachen: LU\, DE\, FR\, EN \n\n\n\nOrganisation : natur&ëmwelt Sektioun Réiden\nKontakt : Freddy Meis\nfredmeis@pt.lu
URL:https://www.naturemweltasbl.lu/de/event/le-gringe-mann/
ATTACH;FMTTYPE=image/jpeg:https://www.naturemweltasbl.lu/wp-content/uploads/2026/03/En-Dag-an-der-Natur-Cover.jpg
END:VEVENT
END:VCALENDAR